BEGIN:VCALENDAR
VERSION:2.0
PRODID:-//GraceWest Bible Church - ECPv6.15.13.1//NONSGML v1.0//EN
CALSCALE:GREGORIAN
METHOD:PUBLISH
X-ORIGINAL-URL:https://gracewest.org.au
X-WR-CALDESC:Events for GraceWest Bible Church
REFRESH-INTERVAL;VALUE=DURATION:PT1H
X-Robots-Tag:noindex
X-PUBLISHED-TTL:PT1H
BEGIN:VTIMEZONE
TZID:UTC
BEGIN:STANDARD
TZOFFSETFROM:+0000
TZOFFSETTO:+0000
TZNAME:UTC
DTSTART:20240101T000000
END:STANDARD
END:VTIMEZONE
BEGIN:VEVENT
DTSTART;TZID=UTC:20251225T100000
DTEND;TZID=UTC:20251225T110000
DTSTAMP:20260425T120722
CREATED:20251214T103256Z
LAST-MODIFIED:20251214T103256Z
UID:25062-1766656800-1766660400@gracewest.org.au
SUMMARY:Christmas Morning Service
DESCRIPTION:
URL:https://gracewest.org.au/event/christmas-morning-service/
LOCATION:GraceWest Bible Church\, 16 Sydney St\, Albion VIC 3020\, Australia
ATTACH;FMTTYPE=image/jpeg:https://gracewest.org.au/wp-content/uploads/2025/12/christmas-service_02.jpg
ORGANIZER;CN="GraceWest Bible Church":MAILTO:gwbcoffice.au@gmail.com
END:VEVENT
END:VCALENDAR